BEGIN:VCALENDAR
VERSION:2.0
PRODID:icalendar-ruby
CALSCALE:GREGORIAN
METHOD:REQUEST
BEGIN:VEVENT
DTSTAMP:20260419T154350Z
UID:dd8bccff-6d1d-4fb3-99a4-d41dd1246d03
DTSTART:20260708T050000Z
DTEND:20260708T110000Z
DESCRIPTION:\n\nLOW-CODE/NO-CODE 2026\nהיחשפו לעתיד של פ
 יתוח יישומים עם הכנס המרכזי לטכנולוגי
 ות \n\n70 אחוזים מהיישומים שיפותחו ישלבו
  טכניקות של קוד נמוך? האם גם אתם שם?\n\nש
 וק פלטפורמות הפיתוח בקוד נמוך (LOW CODE) מ
 משיך לצמוח במהירות. לפי תחזית המחקר של
  גרטנר\, בשנת 2025 ובשנים שאחרי 70 אחוזים 
 מהאפליקציות החדשות שיפותחו בארגונים 
 יעשו שימוש בטכנולוגיות קוד נמוך. נתונ
 ים אלו משקפים את המגמה בארגונים לאמץ פ
 תרונות פיתוח מהירים ויעילים\, המאפשרי
 ם תגובה מהירה לדרישות השוק והפחתת תלו
 ת במפתחים. השנה נוסף אתגר נוסף והוא הי
 בטי AIשהולכים ותופסים תפקיד נכבד בפלטפ
 ורמת פיתוח זו\, ומעבירים את היכולות של
 הן לספק פתרונות חכמים ואוטומטיים\n\nבו
 ועידה יציגו מנהלי IT בארגונים דוגמאות 
 ליישומים מבוססי קוד נמוך\, וכן יוצגו פ
 תרונות של החברות הטכנולוגיות\, לסיוע ב
 יצירת אוטומציה חכמה\, שיפור חוויית משת
 מש ועוד. \n\nבין הנושאים וההרצאות:\n\n\n	טר
 נספורמציה דיגיטלית בקוד פתוח\n	ייישום 
 תהליכי קוד פתוח במגזר העסקי והציבורי\n
 	שילוב בינה מלאכותית לייעול תהליכי פי
 תוח ואוטומציה של שירותים\n	יישום תפיסת
  MULTIPLATFORM \n	אבטחת מידע והגנה מפני איומי 
 סייבר \n	שילוב מערכוצ צד שלישי\, ענן\, ו-S
 AAS \n	רגולציה\, אתיקה והיבטים משפטיים \n	
 סיפורי לקוחות - יישום קוד פתוח בארגוני
 ם.\n\n\n\n\n\n\n\nאנו ממליצים להתעדכן באתר מי
 די פעם ולוודא שהמיקום או תאריך האירוע 
 לא שונה: https://low-code-no-code-2026.events.co.il/home
LOCATION:לאגו\, המאה ועשרים 6\, ראשון לציון
ORGANIZER;CN=People & Computers:mailto:events@thepeople.co.il
SEQUENCE:1776613430
SUMMARY:LOW-CODE/NO-CODE 2026
URL;VALUE=URI:https://low-code-no-code-2026.events.co.il/home
X-ALT-DESC;FMTTYPE=text/html:<div align=right dir=rtl><p></p>\n\n<p>LO
 W-CODE/NO-CODE 2026\n<br />היחשפו לעתיד של פיתוח י
 ישומים עם הכנס המרכזי לטכנולוגיות </p>\n
 \n<p>70 אחוזים מהיישומים שיפותחו ישלבו ט
 כניקות של קוד נמוך? האם גם אתם שם?</p>\n\n<p
 >שוק פלטפורמות הפיתוח בקוד נמוך (LOW CODE) 
 ממשיך לצמוח במהירות. לפי תחזית המחקר ש
 ל גרטנר\, בשנת 2025 ובשנים שאחרי 70 אחוזים
  מהאפליקציות החדשות שיפותחו בארגונים 
 יעשו שימוש בטכנולוגיות קוד נמוך. נתונ
 ים אלו משקפים את המגמה בארגונים לאמץ פ
 תרונות פיתוח מהירים ויעילים\, המאפשרי
 ם תגובה מהירה לדרישות השוק והפחתת תלו
 ת במפתחים. השנה נוסף אתגר נוסף והוא הי
 בטי AIשהולכים ותופסים תפקיד נכבד בפלטפ
 ורמת פיתוח זו\, ומעבירים את היכולות של
 הן לספק פתרונות חכמים ואוטומטיים</p>\n\n<
 p>בוועידה יציגו מנהלי IT בארגונים דוגמא
 ות ליישומים מבוססי קוד נמוך\, וכן יוצג
 ו פתרונות של החברות הטכנולוגיות\, לסיו
 ע ביצירת אוטומציה חכמה\, שיפור חוויית 
 משתמש ועוד. </p>\n\n<p>בין הנושאים וההרצאו
 ת:</p>\n\n<p>	טרנספורמציה דיגיטלית בקוד פת
 וח\n<br />	ייישום תהליכי קוד פתוח במגזר ה
 עסקי והציבורי\n<br />	שילוב בינה מלאכותי
 ת לייעול תהליכי פיתוח ואוטומציה של שי
 רותים\n<br />	יישום תפיסת MULTIPLATFORM \n<br />	אב
 טחת מידע והגנה מפני איומי סייבר \n<br />	ש
 ילוב מערכוצ צד שלישי\, ענן\, ו-SAAS \n<br />	ר
 גולציה\, אתיקה והיבטים משפטיים \n<br />	סי
 פורי לקוחות - יישום קוד פתוח בארגונים.<
 /p>\n\n<p>אנו ממליצים להתעדכן באתר מידי פע
 ם ולוודא שהמיקום או תאריך האירוע לא שו
 נה: https://low-code-no-code-2026.events.co.il/home</p></div>
BEGIN:VALARM
ACTION:DISPLAY
TRIGGER:-P1D
DESCRIPTION:REMINDER
SUMMARY:LOW-CODE/NO-CODE 2026 מחר בשעה 08:00!
END:VALARM
END:VEVENT
END:VCALENDAR
